BEGIN:VCALENDAR
VERSION:2.0
PRODID:-//MCRRC | Montgomery County Maryland - ECPv6.15.20//NONSGML v1.0//EN
CALSCALE:GREGORIAN
METHOD:PUBLISH
X-ORIGINAL-URL:https://mcrrc.org
X-WR-CALDESC:Events for MCRRC | Montgomery County Maryland
REFRESH-INTERVAL;VALUE=DURATION:PT1H
X-Robots-Tag:noindex
X-PUBLISHED-TTL:PT1H
BEGIN:VTIMEZONE
TZID:America/New_York
BEGIN:DAYLIGHT
TZOFFSETFROM:-0500
TZOFFSETTO:-0400
TZNAME:EDT
DTSTART:20250309T070000
END:DAYLIGHT
BEGIN:STANDARD
TZOFFSETFROM:-0400
TZOFFSETTO:-0500
TZNAME:EST
DTSTART:20251102T060000
END:STANDARD
BEGIN:DAYLIGHT
TZOFFSETFROM:-0500
TZOFFSETTO:-0400
TZNAME:EDT
DTSTART:20260308T070000
END:DAYLIGHT
BEGIN:STANDARD
TZOFFSETFROM:-0400
TZOFFSETTO:-0500
TZNAME:EST
DTSTART:20261101T060000
END:STANDARD
BEGIN:DAYLIGHT
TZOFFSETFROM:-0500
TZOFFSETTO:-0400
TZNAME:EDT
DTSTART:20270314T070000
END:DAYLIGHT
BEGIN:STANDARD
TZOFFSETFROM:-0400
TZOFFSETTO:-0500
TZNAME:EST
DTSTART:20271107T060000
END:STANDARD
END:VTIMEZONE
BEGIN:VEVENT
DTSTART;TZID=America/New_York:20260314T100000
DTEND;TZID=America/New_York:20260314T110000
DTSTAMP:20260423T062215
CREATED:20240219T213109Z
LAST-MODIFIED:20250214T202310Z
UID:10004771-1773482400-1773486000@mcrrc.org
SUMMARY:Silver Spring Run
DESCRIPTION:Time: 10:00 AM every Saturday \nPlace: Kaldi’s Social House\, 918 Silver Spring Avenue\, Silver Spring \nContact: Nancy Oswald (nmoswald@yahoo.com) \nOverview: \nJoin us for a social\, non-competitive\, and low-key environment for participants of all paces. Each Saturday\, choose from a 3-\, 5-\, or 7-mile route in and around Silver Spring\, Takoma Park\, Takoma\, Brightwood\, and Rock Creek Park. This is a great run for those that like to run with others\, but not at the crack of dawn! In the summer\, the group will meet at 9:00 AM to get a cooler start. Municipal parking is available one block from Kaldi’s off Fenton Avenue. \nThe group has a communication forum using a Google Group and a Facebook Page (Silver Spring Run Club). Anyone can join. The communication forum will be used in the event of workout cancellations\, location changes\, or time changes\, so it’s highly recommended that all interested parties join the forum.
URL:https://mcrrc.org/calendar-event/saturday-runs-silver-spring-2/2026-03-14/
LOCATION:Kaldi’s Social House\, 918 Silver Spring Ave\, Silver Spring\, MD\, 20910\, United States
CATEGORIES:Weekly Drop-In Runs
ORGANIZER;CN="Nancy Oswald":MAILTO:nmoswald@yahoo.com
END:VEVENT
BEGIN:VEVENT
DTSTART;TZID=America/New_York:20260321T100000
DTEND;TZID=America/New_York:20260321T110000
DTSTAMP:20260423T062215
CREATED:20240219T213109Z
LAST-MODIFIED:20250214T202310Z
UID:10004772-1774087200-1774090800@mcrrc.org
SUMMARY:Silver Spring Run
DESCRIPTION:Time: 10:00 AM every Saturday \nPlace: Kaldi’s Social House\, 918 Silver Spring Avenue\, Silver Spring \nContact: Nancy Oswald (nmoswald@yahoo.com) \nOverview: \nJoin us for a social\, non-competitive\, and low-key environment for participants of all paces. Each Saturday\, choose from a 3-\, 5-\, or 7-mile route in and around Silver Spring\, Takoma Park\, Takoma\, Brightwood\, and Rock Creek Park. This is a great run for those that like to run with others\, but not at the crack of dawn! In the summer\, the group will meet at 9:00 AM to get a cooler start. Municipal parking is available one block from Kaldi’s off Fenton Avenue. \nThe group has a communication forum using a Google Group and a Facebook Page (Silver Spring Run Club). Anyone can join. The communication forum will be used in the event of workout cancellations\, location changes\, or time changes\, so it’s highly recommended that all interested parties join the forum.
URL:https://mcrrc.org/calendar-event/saturday-runs-silver-spring-2/2026-03-21/
LOCATION:Kaldi’s Social House\, 918 Silver Spring Ave\, Silver Spring\, MD\, 20910\, United States
CATEGORIES:Weekly Drop-In Runs
ORGANIZER;CN="Nancy Oswald":MAILTO:nmoswald@yahoo.com
END:VEVENT
BEGIN:VEVENT
DTSTART;TZID=America/New_York:20260328T100000
DTEND;TZID=America/New_York:20260328T110000
DTSTAMP:20260423T062215
CREATED:20240219T213109Z
LAST-MODIFIED:20250214T202310Z
UID:10004773-1774692000-1774695600@mcrrc.org
SUMMARY:Silver Spring Run
DESCRIPTION:Time: 10:00 AM every Saturday \nPlace: Kaldi’s Social House\, 918 Silver Spring Avenue\, Silver Spring \nContact: Nancy Oswald (nmoswald@yahoo.com) \nOverview: \nJoin us for a social\, non-competitive\, and low-key environment for participants of all paces. Each Saturday\, choose from a 3-\, 5-\, or 7-mile route in and around Silver Spring\, Takoma Park\, Takoma\, Brightwood\, and Rock Creek Park. This is a great run for those that like to run with others\, but not at the crack of dawn! In the summer\, the group will meet at 9:00 AM to get a cooler start. Municipal parking is available one block from Kaldi’s off Fenton Avenue. \nThe group has a communication forum using a Google Group and a Facebook Page (Silver Spring Run Club). Anyone can join. The communication forum will be used in the event of workout cancellations\, location changes\, or time changes\, so it’s highly recommended that all interested parties join the forum.
URL:https://mcrrc.org/calendar-event/saturday-runs-silver-spring-2/2026-03-28/
LOCATION:Kaldi’s Social House\, 918 Silver Spring Ave\, Silver Spring\, MD\, 20910\, United States
CATEGORIES:Weekly Drop-In Runs
ORGANIZER;CN="Nancy Oswald":MAILTO:nmoswald@yahoo.com
END:VEVENT
BEGIN:VEVENT
DTSTART;TZID=America/New_York:20260404T100000
DTEND;TZID=America/New_York:20260404T110000
DTSTAMP:20260423T062215
CREATED:20240219T213109Z
LAST-MODIFIED:20250214T202310Z
UID:10004774-1775296800-1775300400@mcrrc.org
SUMMARY:Silver Spring Run
DESCRIPTION:Time: 10:00 AM every Saturday \nPlace: Kaldi’s Social House\, 918 Silver Spring Avenue\, Silver Spring \nContact: Nancy Oswald (nmoswald@yahoo.com) \nOverview: \nJoin us for a social\, non-competitive\, and low-key environment for participants of all paces. Each Saturday\, choose from a 3-\, 5-\, or 7-mile route in and around Silver Spring\, Takoma Park\, Takoma\, Brightwood\, and Rock Creek Park. This is a great run for those that like to run with others\, but not at the crack of dawn! In the summer\, the group will meet at 9:00 AM to get a cooler start. Municipal parking is available one block from Kaldi’s off Fenton Avenue. \nThe group has a communication forum using a Google Group and a Facebook Page (Silver Spring Run Club). Anyone can join. The communication forum will be used in the event of workout cancellations\, location changes\, or time changes\, so it’s highly recommended that all interested parties join the forum.
URL:https://mcrrc.org/calendar-event/saturday-runs-silver-spring-2/2026-04-04/
LOCATION:Kaldi’s Social House\, 918 Silver Spring Ave\, Silver Spring\, MD\, 20910\, United States
CATEGORIES:Weekly Drop-In Runs
ORGANIZER;CN="Nancy Oswald":MAILTO:nmoswald@yahoo.com
END:VEVENT
BEGIN:VEVENT
DTSTART;TZID=America/New_York:20260124T100000
DTEND;TZID=America/New_York:20260124T110000
DTSTAMP:20260423T062215
CREATED:20240219T213109Z
LAST-MODIFIED:20250214T202310Z
UID:10004764-1769248800-1769252400@mcrrc.org
SUMMARY:Silver Spring Run
DESCRIPTION:Time: 10:00 AM every Saturday \nPlace: Kaldi’s Social House\, 918 Silver Spring Avenue\, Silver Spring \nContact: Nancy Oswald (nmoswald@yahoo.com) \nOverview: \nJoin us for a social\, non-competitive\, and low-key environment for participants of all paces. Each Saturday\, choose from a 3-\, 5-\, or 7-mile route in and around Silver Spring\, Takoma Park\, Takoma\, Brightwood\, and Rock Creek Park. This is a great run for those that like to run with others\, but not at the crack of dawn! In the summer\, the group will meet at 9:00 AM to get a cooler start. Municipal parking is available one block from Kaldi’s off Fenton Avenue. \nThe group has a communication forum using a Google Group and a Facebook Page (Silver Spring Run Club). Anyone can join. The communication forum will be used in the event of workout cancellations\, location changes\, or time changes\, so it’s highly recommended that all interested parties join the forum.
URL:https://mcrrc.org/calendar-event/saturday-runs-silver-spring-2/2026-01-24/
LOCATION:Kaldi’s Social House\, 918 Silver Spring Ave\, Silver Spring\, MD\, 20910\, United States
CATEGORIES:Weekly Drop-In Runs
ORGANIZER;CN="Nancy Oswald":MAILTO:nmoswald@yahoo.com
END:VEVENT
BEGIN:VEVENT
DTSTART;TZID=America/New_York:20260411T100000
DTEND;TZID=America/New_York:20260411T110000
DTSTAMP:20260423T062215
CREATED:20240219T213109Z
LAST-MODIFIED:20250214T202310Z
UID:10004775-1775901600-1775905200@mcrrc.org
SUMMARY:Silver Spring Run
DESCRIPTION:Time: 10:00 AM every Saturday \nPlace: Kaldi’s Social House\, 918 Silver Spring Avenue\, Silver Spring \nContact: Nancy Oswald (nmoswald@yahoo.com) \nOverview: \nJoin us for a social\, non-competitive\, and low-key environment for participants of all paces. Each Saturday\, choose from a 3-\, 5-\, or 7-mile route in and around Silver Spring\, Takoma Park\, Takoma\, Brightwood\, and Rock Creek Park. This is a great run for those that like to run with others\, but not at the crack of dawn! In the summer\, the group will meet at 9:00 AM to get a cooler start. Municipal parking is available one block from Kaldi’s off Fenton Avenue. \nThe group has a communication forum using a Google Group and a Facebook Page (Silver Spring Run Club). Anyone can join. The communication forum will be used in the event of workout cancellations\, location changes\, or time changes\, so it’s highly recommended that all interested parties join the forum.
URL:https://mcrrc.org/calendar-event/saturday-runs-silver-spring-2/2026-04-11/
LOCATION:Kaldi’s Social House\, 918 Silver Spring Ave\, Silver Spring\, MD\, 20910\, United States
CATEGORIES:Weekly Drop-In Runs
ORGANIZER;CN="Nancy Oswald":MAILTO:nmoswald@yahoo.com
END:VEVENT
BEGIN:VEVENT
DTSTART;TZID=America/New_York:20260131T100000
DTEND;TZID=America/New_York:20260131T110000
DTSTAMP:20260423T062215
CREATED:20240219T213109Z
LAST-MODIFIED:20250214T202310Z
UID:10004765-1769853600-1769857200@mcrrc.org
SUMMARY:Silver Spring Run
DESCRIPTION:Time: 10:00 AM every Saturday \nPlace: Kaldi’s Social House\, 918 Silver Spring Avenue\, Silver Spring \nContact: Nancy Oswald (nmoswald@yahoo.com) \nOverview: \nJoin us for a social\, non-competitive\, and low-key environment for participants of all paces. Each Saturday\, choose from a 3-\, 5-\, or 7-mile route in and around Silver Spring\, Takoma Park\, Takoma\, Brightwood\, and Rock Creek Park. This is a great run for those that like to run with others\, but not at the crack of dawn! In the summer\, the group will meet at 9:00 AM to get a cooler start. Municipal parking is available one block from Kaldi’s off Fenton Avenue. \nThe group has a communication forum using a Google Group and a Facebook Page (Silver Spring Run Club). Anyone can join. The communication forum will be used in the event of workout cancellations\, location changes\, or time changes\, so it’s highly recommended that all interested parties join the forum.
URL:https://mcrrc.org/calendar-event/saturday-runs-silver-spring-2/2026-01-31/
LOCATION:Kaldi’s Social House\, 918 Silver Spring Ave\, Silver Spring\, MD\, 20910\, United States
CATEGORIES:Weekly Drop-In Runs
ORGANIZER;CN="Nancy Oswald":MAILTO:nmoswald@yahoo.com
END:VEVENT
BEGIN:VEVENT
DTSTART;TZID=America/New_York:20260418T100000
DTEND;TZID=America/New_York:20260418T110000
DTSTAMP:20260423T062215
CREATED:20240219T213109Z
LAST-MODIFIED:20250214T202310Z
UID:10004776-1776506400-1776510000@mcrrc.org
SUMMARY:Silver Spring Run
DESCRIPTION:Time: 10:00 AM every Saturday \nPlace: Kaldi’s Social House\, 918 Silver Spring Avenue\, Silver Spring \nContact: Nancy Oswald (nmoswald@yahoo.com) \nOverview: \nJoin us for a social\, non-competitive\, and low-key environment for participants of all paces. Each Saturday\, choose from a 3-\, 5-\, or 7-mile route in and around Silver Spring\, Takoma Park\, Takoma\, Brightwood\, and Rock Creek Park. This is a great run for those that like to run with others\, but not at the crack of dawn! In the summer\, the group will meet at 9:00 AM to get a cooler start. Municipal parking is available one block from Kaldi’s off Fenton Avenue. \nThe group has a communication forum using a Google Group and a Facebook Page (Silver Spring Run Club). Anyone can join. The communication forum will be used in the event of workout cancellations\, location changes\, or time changes\, so it’s highly recommended that all interested parties join the forum.
URL:https://mcrrc.org/calendar-event/saturday-runs-silver-spring-2/2026-04-18/
LOCATION:Kaldi’s Social House\, 918 Silver Spring Ave\, Silver Spring\, MD\, 20910\, United States
CATEGORIES:Weekly Drop-In Runs
ORGANIZER;CN="Nancy Oswald":MAILTO:nmoswald@yahoo.com
END:VEVENT
BEGIN:VEVENT
DTSTART;TZID=America/New_York:20260207T100000
DTEND;TZID=America/New_York:20260207T110000
DTSTAMP:20260423T062215
CREATED:20240219T213109Z
LAST-MODIFIED:20250214T202310Z
UID:10004766-1770458400-1770462000@mcrrc.org
SUMMARY:Silver Spring Run
DESCRIPTION:Time: 10:00 AM every Saturday \nPlace: Kaldi’s Social House\, 918 Silver Spring Avenue\, Silver Spring \nContact: Nancy Oswald (nmoswald@yahoo.com) \nOverview: \nJoin us for a social\, non-competitive\, and low-key environment for participants of all paces. Each Saturday\, choose from a 3-\, 5-\, or 7-mile route in and around Silver Spring\, Takoma Park\, Takoma\, Brightwood\, and Rock Creek Park. This is a great run for those that like to run with others\, but not at the crack of dawn! In the summer\, the group will meet at 9:00 AM to get a cooler start. Municipal parking is available one block from Kaldi’s off Fenton Avenue. \nThe group has a communication forum using a Google Group and a Facebook Page (Silver Spring Run Club). Anyone can join. The communication forum will be used in the event of workout cancellations\, location changes\, or time changes\, so it’s highly recommended that all interested parties join the forum.
URL:https://mcrrc.org/calendar-event/saturday-runs-silver-spring-2/2026-02-07/
LOCATION:Kaldi’s Social House\, 918 Silver Spring Ave\, Silver Spring\, MD\, 20910\, United States
CATEGORIES:Weekly Drop-In Runs
ORGANIZER;CN="Nancy Oswald":MAILTO:nmoswald@yahoo.com
END:VEVENT
BEGIN:VEVENT
DTSTART;TZID=America/New_York:20260214T100000
DTEND;TZID=America/New_York:20260214T110000
DTSTAMP:20260423T062215
CREATED:20240219T213109Z
LAST-MODIFIED:20250214T202310Z
UID:10004767-1771063200-1771066800@mcrrc.org
SUMMARY:Silver Spring Run
DESCRIPTION:Time: 10:00 AM every Saturday \nPlace: Kaldi’s Social House\, 918 Silver Spring Avenue\, Silver Spring \nContact: Nancy Oswald (nmoswald@yahoo.com) \nOverview: \nJoin us for a social\, non-competitive\, and low-key environment for participants of all paces. Each Saturday\, choose from a 3-\, 5-\, or 7-mile route in and around Silver Spring\, Takoma Park\, Takoma\, Brightwood\, and Rock Creek Park. This is a great run for those that like to run with others\, but not at the crack of dawn! In the summer\, the group will meet at 9:00 AM to get a cooler start. Municipal parking is available one block from Kaldi’s off Fenton Avenue. \nThe group has a communication forum using a Google Group and a Facebook Page (Silver Spring Run Club). Anyone can join. The communication forum will be used in the event of workout cancellations\, location changes\, or time changes\, so it’s highly recommended that all interested parties join the forum.
URL:https://mcrrc.org/calendar-event/saturday-runs-silver-spring-2/2026-02-14/
LOCATION:Kaldi’s Social House\, 918 Silver Spring Ave\, Silver Spring\, MD\, 20910\, United States
CATEGORIES:Weekly Drop-In Runs
ORGANIZER;CN="Nancy Oswald":MAILTO:nmoswald@yahoo.com
END:VEVENT
BEGIN:VEVENT
DTSTART;TZID=America/New_York:20260221T100000
DTEND;TZID=America/New_York:20260221T110000
DTSTAMP:20260423T062215
CREATED:20240219T213109Z
LAST-MODIFIED:20250214T202310Z
UID:10004768-1771668000-1771671600@mcrrc.org
SUMMARY:Silver Spring Run
DESCRIPTION:Time: 10:00 AM every Saturday \nPlace: Kaldi’s Social House\, 918 Silver Spring Avenue\, Silver Spring \nContact: Nancy Oswald (nmoswald@yahoo.com) \nOverview: \nJoin us for a social\, non-competitive\, and low-key environment for participants of all paces. Each Saturday\, choose from a 3-\, 5-\, or 7-mile route in and around Silver Spring\, Takoma Park\, Takoma\, Brightwood\, and Rock Creek Park. This is a great run for those that like to run with others\, but not at the crack of dawn! In the summer\, the group will meet at 9:00 AM to get a cooler start. Municipal parking is available one block from Kaldi’s off Fenton Avenue. \nThe group has a communication forum using a Google Group and a Facebook Page (Silver Spring Run Club). Anyone can join. The communication forum will be used in the event of workout cancellations\, location changes\, or time changes\, so it’s highly recommended that all interested parties join the forum.
URL:https://mcrrc.org/calendar-event/saturday-runs-silver-spring-2/2026-02-21/
LOCATION:Kaldi’s Social House\, 918 Silver Spring Ave\, Silver Spring\, MD\, 20910\, United States
CATEGORIES:Weekly Drop-In Runs
ORGANIZER;CN="Nancy Oswald":MAILTO:nmoswald@yahoo.com
END:VEVENT
BEGIN:VEVENT
DTSTART;TZID=America/New_York:20260228T100000
DTEND;TZID=America/New_York:20260228T110000
DTSTAMP:20260423T062215
CREATED:20240219T213109Z
LAST-MODIFIED:20250214T202310Z
UID:10004769-1772272800-1772276400@mcrrc.org
SUMMARY:Silver Spring Run
DESCRIPTION:Time: 10:00 AM every Saturday \nPlace: Kaldi’s Social House\, 918 Silver Spring Avenue\, Silver Spring \nContact: Nancy Oswald (nmoswald@yahoo.com) \nOverview: \nJoin us for a social\, non-competitive\, and low-key environment for participants of all paces. Each Saturday\, choose from a 3-\, 5-\, or 7-mile route in and around Silver Spring\, Takoma Park\, Takoma\, Brightwood\, and Rock Creek Park. This is a great run for those that like to run with others\, but not at the crack of dawn! In the summer\, the group will meet at 9:00 AM to get a cooler start. Municipal parking is available one block from Kaldi’s off Fenton Avenue. \nThe group has a communication forum using a Google Group and a Facebook Page (Silver Spring Run Club). Anyone can join. The communication forum will be used in the event of workout cancellations\, location changes\, or time changes\, so it’s highly recommended that all interested parties join the forum.
URL:https://mcrrc.org/calendar-event/saturday-runs-silver-spring-2/2026-02-28/
LOCATION:Kaldi’s Social House\, 918 Silver Spring Ave\, Silver Spring\, MD\, 20910\, United States
CATEGORIES:Weekly Drop-In Runs
ORGANIZER;CN="Nancy Oswald":MAILTO:nmoswald@yahoo.com
END:VEVENT
BEGIN:VEVENT
DTSTART;TZID=America/New_York:20260307T100000
DTEND;TZID=America/New_York:20260307T110000
DTSTAMP:20260423T062215
CREATED:20240219T213109Z
LAST-MODIFIED:20250214T202310Z
UID:10004770-1772877600-1772881200@mcrrc.org
SUMMARY:Silver Spring Run
DESCRIPTION:Time: 10:00 AM every Saturday \nPlace: Kaldi’s Social House\, 918 Silver Spring Avenue\, Silver Spring \nContact: Nancy Oswald (nmoswald@yahoo.com) \nOverview: \nJoin us for a social\, non-competitive\, and low-key environment for participants of all paces. Each Saturday\, choose from a 3-\, 5-\, or 7-mile route in and around Silver Spring\, Takoma Park\, Takoma\, Brightwood\, and Rock Creek Park. This is a great run for those that like to run with others\, but not at the crack of dawn! In the summer\, the group will meet at 9:00 AM to get a cooler start. Municipal parking is available one block from Kaldi’s off Fenton Avenue. \nThe group has a communication forum using a Google Group and a Facebook Page (Silver Spring Run Club). Anyone can join. The communication forum will be used in the event of workout cancellations\, location changes\, or time changes\, so it’s highly recommended that all interested parties join the forum.
URL:https://mcrrc.org/calendar-event/saturday-runs-silver-spring-2/2026-03-07/
LOCATION:Kaldi’s Social House\, 918 Silver Spring Ave\, Silver Spring\, MD\, 20910\, United States
CATEGORIES:Weekly Drop-In Runs
ORGANIZER;CN="Nancy Oswald":MAILTO:nmoswald@yahoo.com
END:VEVENT
END:VCALENDAR