BEGIN:VCALENDAR
VERSION:2.0
PRODID:-//MCRRC | Montgomery County Maryland - ECPv6.15.20//NONSGML v1.0//EN
CALSCALE:GREGORIAN
METHOD:PUBLISH
X-WR-CALNAME:MCRRC | Montgomery County Maryland
X-ORIGINAL-URL:https://mcrrc.org
X-WR-CALDESC:Events for MCRRC | Montgomery County Maryland
REFRESH-INTERVAL;VALUE=DURATION:PT1H
X-Robots-Tag:noindex
X-PUBLISHED-TTL:PT1H
BEGIN:VTIMEZONE
TZID:America/New_York
BEGIN:DAYLIGHT
TZOFFSETFROM:-0500
TZOFFSETTO:-0400
TZNAME:EDT
DTSTART:20250309T070000
END:DAYLIGHT
BEGIN:STANDARD
TZOFFSETFROM:-0400
TZOFFSETTO:-0500
TZNAME:EST
DTSTART:20251102T060000
END:STANDARD
BEGIN:DAYLIGHT
TZOFFSETFROM:-0500
TZOFFSETTO:-0400
TZNAME:EDT
DTSTART:20260308T070000
END:DAYLIGHT
BEGIN:STANDARD
TZOFFSETFROM:-0400
TZOFFSETTO:-0500
TZNAME:EST
DTSTART:20261101T060000
END:STANDARD
BEGIN:DAYLIGHT
TZOFFSETFROM:-0500
TZOFFSETTO:-0400
TZNAME:EDT
DTSTART:20270314T070000
END:DAYLIGHT
BEGIN:STANDARD
TZOFFSETFROM:-0400
TZOFFSETTO:-0500
TZNAME:EST
DTSTART:20271107T060000
END:STANDARD
END:VTIMEZONE
BEGIN:VEVENT
DTSTART;TZID=America/New_York:20260920T083000
DTEND;TZID=America/New_York:20260920T100000
DTSTAMP:20260423T132104
CREATED:20251109T004751Z
LAST-MODIFIED:20260210T155215Z
UID:10012993-1789893000-1789898400@mcrrc.org
SUMMARY:Country Road Run 5K 2026
DESCRIPTION:RACE OVERVIEW: \nThe 5K race will be held at Calleva Farm in Dickerson. The course offers views of horses\, hayfields and a big\, red barn – you can’t get more country than that in Montgomery County! And breaking a long-standing MCRRC tradition\, the race features a downhill finish. The location is in the far west end of the county\, so please be sure to map it and allow extra travel time to get there. \n  \nLOCATION INFORMATION: \nThe address is 19120 Martinsburg Road in Dickerson\, MD. Parking will be available in a designated portion of the hay field (please follow the directions of the volunteers). Registration and the start/finish of the race will be located near the herb garden. \nThe course will run through the farm and then out and back on Martinsburg Road. \n  \nCOURSE MAP: \nA course map can be viewed here. \n  \nREGISTRATION: \n\nMCRRC Members – \n\nThis race is part of our low-key race series and is FREE for MCRRC members.  Race registration is not required for members; however\, members must first signup for a 2026 bib & chip. Your bib & chip will be waiting for you at any 2026 low-key race.  If you have a 2025 (or older) chip\, please bring it with you to exchange for your 2026 bib & chip.  If you are a new member\, or no longer have an older chip\, please remember to bring a $5 chip deposit with you.  If you already signed up for a personalized 2026 bib\, please do not sign up again – your personalized 2026 low-key bib & chip will be waiting for you at any 2026 low-key race. \n\nNon-MCRRC Members – \nRegistration is open to non-MCRRC members at a cost of $22 (participants ages 18 & over) and $11.60 (participants under 18). This price includes the registration + processing fee. You may pay less in processing fees per participant if you add more registrations to your cart. Online registration will remain open through the start of the race\, so you can register online before leaving the house or from your smartphone at the race site.  Registering online before arriving to the race site is strongly encouraged. Bib and chip pickup will take place on race morning near the start area.  Volunteers will be available to assist you. Non-members can register here. \n\n  \nVOLUNTEER! \nMCRRC is a volunteer organization and our events are fully staffed by the hard work of our volunteers.  Without them\, our races wouldn’t be possible. Volunteers are needed for this event.  Please sign up here to volunteer! \n\n  \nREFUNDS: \nIf you are a non-MCRRC member who registered for this race but can no longer attend\, please contact office@mcrrc.org so that we can move your registration to another MCRRC low-key event and open up a spot for someone else. Monetary refunds will not be provided.
URL:https://mcrrc.org/calendar-event/country-road-run-5k-2026/
LOCATION:Calleva Farm\, 19120 Martinsburg Road\, Dickerson\, MD\, 20842\, United States
CATEGORIES:CS Championship Series,Low-Key Race,Race,Winter
END:VEVENT
BEGIN:VEVENT
DTSTART;TZID=America/New_York:20261010T083000
DTEND;TZID=America/New_York:20261010T100000
DTSTAMP:20260423T132104
CREATED:20251109T005504Z
LAST-MODIFIED:20260410T131434Z
UID:10012996-1791621000-1791626400@mcrrc.org
SUMMARY:Matthew Henson 5K 2026
DESCRIPTION:RACE OVERVIEW: \nJoin us for a hilly 5K mostly along the Matthew Henson Trail between Georiga Avenue and Layhill Road\, with brief stretches at the start and finish along Rippling Brook Drive and several wooden bridge crossings. \n  \nCOURSE MAP: \nA course map can be viewed here. \n  \nREGISTRATION: \n\nMCRRC Members – \n\nThis race is part of our low-key race series and is FREE for MCRRC members.  Race registration is not required for members; however\, members must first signup for a 2026 bib & chip. Your bib & chip will be waiting for you at any 2026 low-key race.  If you have a 2025 (or older) chip\, please bring it with you to exchange for your 2026 bib & chip.  If you are a new member\, or no longer have an older chip\, please remember to bring a $5 chip deposit with you.  If you already signed up for a personalized 2026 bib\, please do not sign up again – your personalized 2026 low-key bib & chip will be waiting for you at any 2026 low-key race. \n\nNon-MCRRC Members – \nRegistration is open to non-MCRRC members at a cost of $22 (participants ages 18 & over) and $11.60 (participants under 18). This price includes the registration + processing fee. You may pay less in processing fees per participant if you add more registrations to your cart. Online registration will remain open through the start of the race\, so you can register online before leaving the house or from your smartphone at the race site.  Registering online before arriving to the race site is strongly encouraged. Bib and chip pickup will take place on race morning near the start area.  Volunteers will be available to assist you. Non-members can register here. \n  \n\nVOLUNTEER: \nMCRRC is a volunteer organization and our events are fully staffed by the hard work of our volunteers. Without them\, our races wouldn’t be possible. Volunteers are needed for this event. Please sign up here to volunteer! \n\n  \nREFUNDS: \nIf you are a non-MCRRC member\, and can no longer attend the race\, please contact office@mcrrc.org so that we can move your registration to another MCRRC low-key event. Monetary refunds will not be provided.
URL:https://mcrrc.org/calendar-event/matthew-henson-5k-2026/
LOCATION:Bel Pre Elementary\, 13801 Rippling Brook Drive\, Silver Spring\, 20906
CATEGORIES:CS Championship Series,Fall,Low-Key Race,Race
ORGANIZER;CN="Jim Farkas":MAILTO:farkas1004@hotmail.com
END:VEVENT
BEGIN:VEVENT
DTSTART;TZID=America/New_York:20261128T080000
DTEND;TZID=America/New_York:20261128T103000
DTSTAMP:20260423T132104
CREATED:20251125T215705Z
LAST-MODIFIED:20260210T165415Z
UID:10013019-1795852800-1795861800@mcrrc.org
SUMMARY:Turkey Burnoff 2026
DESCRIPTION:RACE OVERVIEW: \nStart the holiday season by challenging yourself to some gently rolling hills in scenic Seneca Creek State Park as you run one loop for the 5-mile race\, or a second loop for twice the fun. The park deer occasionally make a cameo appearance and they don’t brake for runners! All participants need to be in the park by 7:50 AM. \n \n  \nSCHEDULE OF EVENTS: \n8:o0 AM – 5 Mile Race \n8:00 AM – 10 Mile Race \n8:05 AM – 2.78-km Young Run (YS)  \n  \nTHE COURSE: \nThe course takes place on paved roads over rolling hills\, across a dam\, and through the woods. Both the 5 and 10 mile courses start and finish in the same location. \n5 Mile Race – Course Map \n10-mile Race – Course Map \n  \nPARKING: \nThe park has limited parking. Please make every attempt to carpool and arrive early. Per Seneca Creek State Park Management’s request\, the gate at the ranger’s booth (where you would pay the entry fee during warmer months) will be closed at 7:50 AM sharp. You must arrive before then in order to park in the grassy field near the Start/Finish area. If you arrive at 7:50 AM or later\, you will have to park in the admin office parking lot and walk or run half a mile to the start. Don’t delay or you will have to climb one extra hill! \n  \nREGISTRATION: \n\nMCRRC Members – \n\nThis race is part of our low-key race series and is FREE for MCRRC members.  Race registration is not required for members; however\, members must first signup for a 2026 bib & chip. Your bib & chip will be waiting for you at any 2026 low-key race.  If you have a 2025 (or older) chip\, please bring it with you to exchange for your 2026 bib & chip.  If you are a new member\, or no longer have an older chip\, please remember to bring a $5 chip deposit with you.  If you already signed up for a personalized 2026 bib\, please do not sign up again – your personalized 2026 low-key bib & chip will be waiting for you at any 2026 low-key race. \n\nNon-MCRRC Members – \nRegistration is open to non-MCRRC members at a cost of $22 (participants ages 18 & over) and $11.60 (participants under 18). This price includes the registration + processing fee. You may pay less in processing fees per participant if you add more registrations to your cart. Online registration will remain open through the start of the race\, so you can register online before leaving the house or from your smartphone at the race site.  Registering online before arriving to the race site is strongly encouraged. Bib and chip pickup will take place on race morning near the start area.  Volunteers will be available to assist you. Non-members can register here. \n\n\n  \n\nYOUNG RUN:  \nThere will be no timing chips used for the youth series runs. The young run will begin at 8:05 AM and is 2.78K.  The young run is free\, but all participants must be registered by a parent or guardian prior to race day (members and non-members). Youth Run registration can be found here.  Parents or Guardians do not need to register for the young runs to accompany your child.  You are welcome to jump right in with them\, if needed! \n\n  \n\nVOLUNTEER: \nMCRRC is a volunteer organization and our events are fully staffed by the hard work of our volunteers.  Without them\, our races wouldn’t be possible. Volunteers are needed for this event.  Please sign up here to volunteer! \n\n  \nREFUNDS: \nIf you are a non-MCRRC member\, and can no longer attend the race\, please contact office@mcrrc.org so that we can transfer your registration to another MCRRC low-key race.  Monetary refunds will not be provided.
URL:https://mcrrc.org/calendar-event/turkey-burnoff-5-and-10-mile-race-2026/
LOCATION:Seneca Creek State Park\, 11950 Clopper Road\, Gaithersburg\, MD\, 20878\, United States
CATEGORIES:CS Championship Series,Fall,Low-Key Race,Race,Youth Running Series
ORGANIZER;CN="Danny Talmage":MAILTO:turkey_burnoff@mcrrc.org
GEO:39.1506826;-77.2495697
X-APPLE-STRUCTURED-LOCATION;VALUE=URI;X-ADDRESS=Seneca Creek State Park 11950 Clopper Road Gaithersburg MD 20878 United States;X-APPLE-RADIUS=500;X-TITLE=11950 Clopper Road:geo:-77.2495697,39.1506826
END:VEVENT
BEGIN:VEVENT
DTSTART;TZID=America/New_York:20261213T090000
DTEND;TZID=America/New_York:20261213T103000
DTSTAMP:20260423T132104
CREATED:20251109T010925Z
LAST-MODIFIED:20260210T170515Z
UID:10013002-1797152400-1797157800@mcrrc.org
SUMMARY:Jingle Bell Jog 8K 2026
DESCRIPTION:RACE OVERVIEW: \nDashing through the snow to an 8k race today… (you fill in the rest!) \nJoin us at the Rockville Senior Center for the Jingle Bell Jog. The course winds through the quiet residential neighborhood. \n  \nCOURSE MAP \nA course map can be viewed here. \n  \nSCHEDULE OF EVENTS: \n\n9:00 AM – 8K (CS)\n9:10 AM – 1 Mile Young Run (YS)\n\n  \nREGISTRATION: \n\nMCRRC Members – \n\nThis race is part of our low-key race series and is FREE for MCRRC members.  Race registration is not required for members; however\, members must first signup for a 2026 bib & chip. Your bib & chip will be waiting for you at any 2026 low-key race.  If you have a 2025 (or older) chip\, please bring it with you to exchange for your 2026 bib & chip.  If you are a new member\, or no longer have an older chip\, please remember to bring a $5 chip deposit with you.  If you already signed up for a personalized 2026 bib\, please do not sign up again – your personalized 2026 low-key bib & chip will be waiting for you at any 2026 low-key race. \n\nNon-MCRRC Members – \nRegistration is open to non-MCRRC members at a cost of $22 (participants ages 18 & over) and $11.60 (participants under 18). This price includes the registration + processing fee. You may pay less in processing fees per participant if you add more registrations to your cart. Online registration will remain open through the start of the race\, so you can register online before leaving the house or from your smartphone at the race site.  Registering online before arriving to the race site is strongly encouraged. Bib and chip pickup will take place on race morning near the start area.  Volunteers will be available to assist you. Non-members can register here. \n\n  \nYOUNG RUNS: \nThere will be no timing chips used for the youth series runs. The young run will begin at 9:10 AM and is 1 mile.  The young run is free\, but all participants must be registered by a parent or guardian prior to race day (members and non-members). Youth Run registration can be found here.  Parents or Guardians do not need to register for the young runs to accompany your child.  You are welcome to jump right in with them\, if needed! \n  \nVOLUNTEER: \nMCRRC is a volunteer organization and our events are fully staffed by the hard work of our volunteers.  Without them\, our races wouldn’t be possible. Volunteers are needed for this event. Please sign up here to volunteer! \n\n  \nREFUNDS: \nIf you are a non-MCRRC member\, and can no longer attend the race\, please contact office@mcrrc.org so that we can move your registration to another MCRRC low-key event and open up a spot for someone else.  Monetary refunds will not be provided.
URL:https://mcrrc.org/calendar-event/jingle-bell-jog-8k-2026/
LOCATION:Rockville Senior Center\, 1150 Carnation Drive\, Rockville\, MD\, 20850\, United States
CATEGORIES:CS Championship Series,Fall,Low-Key Race,Race,Youth Running Series
ORGANIZER;CN="Philippe Vanhille":MAILTO:jingle_bell_jog@mcrrc.org
GEO:39.1003059;-77.1767476
X-APPLE-STRUCTURED-LOCATION;VALUE=URI;X-ADDRESS=Rockville Senior Center 1150 Carnation Drive Rockville MD 20850 United States;X-APPLE-RADIUS=500;X-TITLE=1150 Carnation Drive:geo:-77.1767476,39.1003059
END:VEVENT
END:VCALENDAR