BEGIN:VCALENDAR
VERSION:2.0
PRODID:-//MCRRC | Montgomery County Maryland - ECPv6.15.20//NONSGML v1.0//EN
CALSCALE:GREGORIAN
METHOD:PUBLISH
X-ORIGINAL-URL:https://mcrrc.org
X-WR-CALDESC:Events for MCRRC | Montgomery County Maryland
REFRESH-INTERVAL;VALUE=DURATION:PT1H
X-Robots-Tag:noindex
X-PUBLISHED-TTL:PT1H
BEGIN:VTIMEZONE
TZID:America/New_York
BEGIN:DAYLIGHT
TZOFFSETFROM:-0500
TZOFFSETTO:-0400
TZNAME:EDT
DTSTART:20250309T070000
END:DAYLIGHT
BEGIN:STANDARD
TZOFFSETFROM:-0400
TZOFFSETTO:-0500
TZNAME:EST
DTSTART:20251102T060000
END:STANDARD
BEGIN:DAYLIGHT
TZOFFSETFROM:-0500
TZOFFSETTO:-0400
TZNAME:EDT
DTSTART:20260308T070000
END:DAYLIGHT
BEGIN:STANDARD
TZOFFSETFROM:-0400
TZOFFSETTO:-0500
TZNAME:EST
DTSTART:20261101T060000
END:STANDARD
BEGIN:DAYLIGHT
TZOFFSETFROM:-0500
TZOFFSETTO:-0400
TZNAME:EDT
DTSTART:20270314T070000
END:DAYLIGHT
BEGIN:STANDARD
TZOFFSETFROM:-0400
TZOFFSETTO:-0500
TZNAME:EST
DTSTART:20271107T060000
END:STANDARD
END:VTIMEZONE
BEGIN:VEVENT
DTSTART;TZID=America/New_York:20260710T190000
DTEND;TZID=America/New_York:20260710T210000
DTSTAMP:20260423T060919
CREATED:20251109T002711Z
LAST-MODIFIED:20260408T171305Z
UID:10012987-1783710000-1783717200@mcrrc.org
SUMMARY:Midsummer Night's Mile 2026
DESCRIPTION:RACE OVERVIEW: \nDust off those spikes for the Midsummer Night’s Mile! It is a track mile\, run in heats\, and part of our Championship Series and Youth Series. \nThe anticipated heats are: \n\nRunners with expected times greater than 8:45.\nRunners with expected times greater than 7:50 up to 8:45.\nRunners with expected times greater than 7:00 up to 7:50.\nRunners with expected times greater than 6:15 up to 7:00.\nRunners with expected times greater than 5:45 up to 6:15.\nRunners with expected times greater than 5:20 up to 5:45.\nRunners with expected times greater than 4:50 up to 5:20.\nRunners with expected times of 4:50 or less.\n\n\nREGISTRATION: \n\nMCRRC Members – \n\nThis race is part of our low-key race series and is FREE for MCRRC members.  Race registration is not required for members; however\, members must first signup for a 2026 bib & chip. Your bib & chip will be waiting for you at any 2026 low-key race.  If you have a 2025 (or older) chip\, please bring it with you to exchange for your 2026 bib & chip.  If you are a new member\, or no longer have an older chip\, please remember to bring a $5 chip deposit with you.  If you already signed up for a personalized 2026 bib\, please do not sign up again – your personalized 2026 low-key bib & chip will be waiting for you at any 2026 low-key race. \n\nNon-MCRRC Members – \nRegistration is open to non-MCRRC members at a cost of $22 (participants ages 18 & over) and $11.60 (participants under 18). This price includes the registration + processing fee. You may pay less in processing fees per participant if you add more registrations to your cart. Online registration will remain open through the start of the race\, so you can register online before leaving the house or from your smartphone at the race site.  Registering online before arriving to the race site is strongly encouraged.  Non-members can register here. Bib and chip pickup will take place on race morning near the start area.  Volunteers will be available to assist you. \n\n\n  \nYOUTH RUNS: \nThere will be no timing chips used for the youth series runs.  Young run participants may seed according to the 1 mile heats above. The young run is free\, but all participants must be registered by a parent or guardian prior to race day (members and non-members). Youth Run registration can be found here. \n  \nVOLUNTEER: \nMCRRC is a volunteer organization and our events are fully staffed by the hard work of our volunteers.  Without them\, our races wouldn’t be possible. Volunteers are needed for this event. Please sign up here to volunteer! \n  \n\n\nREFUNDS: \nIf you are a non-MCRRC member\, and can no longer attend the race\, please contact office@mcrrc.org so that we can transfer your registration to another MCRRC low-key race.  Monetary refunds will not be provided.
URL:https://mcrrc.org/calendar-event/midsummer-nights-mile-2026/
LOCATION:Gaithersburg High School\, 101 Education Blvd\, Gaithersburg\, MD\, 20877\, United States
CATEGORIES:CS Championship Series,Low-Key Race,Race,Summer,Youth Running Series
ORGANIZER;CN="Dan Reichmann":MAILTO:dreichmann@yahoo.com
GEO:39.1352017;-77.1930576
X-APPLE-STRUCTURED-LOCATION;VALUE=URI;X-ADDRESS=Gaithersburg High School 101 Education Blvd Gaithersburg MD 20877 United States;X-APPLE-RADIUS=500;X-TITLE=101 Education Blvd:geo:-77.1930576,39.1352017
END:VEVENT
BEGIN:VEVENT
DTSTART;TZID=America/New_York:20260726T073000
DTEND;TZID=America/New_York:20260726T110000
DTSTAMP:20260423T060919
CREATED:20251109T002828Z
LAST-MODIFIED:20260120T141646Z
UID:10012988-1785051000-1785063600@mcrrc.org
SUMMARY:Riley's Rumble Half Marathon 2026
DESCRIPTION:ARE YOU READY TO RUMBLE? \nCome run the infamous Riley’s Rumble Half Marathon for a challenging and rewarding race experience. \nDo you love running hills? Do you love running in summer heat? Does the DC area humidity inspire you to get out and sweat it out?  If you said yes to any of these questions\, or even if you didn’t\, come out & join us — you won’t regret it!  It’s generally understood that Riley’s Rumble is not a good idea for your first half marathon\, but that depends on your personal level of crazy! \n  \nCOURSE MAP \nA course map can be viewed here. \n  \nREGISTRATION: \n\nMCRRC Members – \n\nThis race is part of our low-key race series and is FREE for MCRRC members.  Race registration is not required for members; however\, members must first signup for a 2026 bib & chip. Your bib & chip will be waiting for you at any 2026 low-key race.  If you have a 2025 (or older) chip\, please bring it with you to exchange for your 2026 bib & chip.  If you are a new member\, or no longer have an older chip\, please remember to bring a $5 chip deposit with you.  If you already signed up for a personalized 2026 bib\, please do not sign up again – your personalized 2026 low-key bib & chip will be waiting for you at any 2026 low-key race. \n\nNon-MCRRC Members – \nRegistration is open to non-MCRRC members at a cost of $37.40 (participants ages 18 & over) and $22 (participants under 18). This price includes the registration + processing fee. You may pay less in processing fees per participant if you add more registrations to your cart. Online registration will remain open through the start of the race\, so you can register online before leaving the house or from your smartphone at the race site.  Registering online before arriving to the race site is strongly encouraged.  Non-members can register here. Bib and chip pickup will take place on race morning near the start area.  Volunteers will be available to assist you. \n  \nRACE DAY BIB PICKUP: \n\nRegistration and bib/chip pickup open on race morning at 6:30 AM. Try to arrive no later than 7 AM to help us get everyone through the line. Volunteers will be on hand to assist you. \n\n  \nMINIMUM PACE: \n\nOur permits require that participants not exceed 15 minutes per mile.  Please do not attempt Riley’s Rumble if you are not confident of completing the course at that pace. \n  \nON-COURSE SUPPORT: \nWater\, Gatorade\, and ice will be provided every two to three miles along the course and at the start/finish. Popsicles will be provided just after the turnaround between mile 8 and 9. (Popsicle Protocol: Just before the turnaround\, yell out your flavor preference and after the turnaround\, the volunteers will have it ready for you!) \nThere will be port-o-johns at the start/finish\, but not along the course. Beware of venturing off-road – poison ivy is rampant in the forest.  Plus\, the sight of you “relieving yourself” could be uncomfortable for both you and other participants! \nEnergy gels will no longer be provided.  Participants must carry their own supplements. \n  \nAT THE FINISH: \nWatermelon\, bananas\, and other refreshments will be available at the finish. There are no awards\, t-shirts\, or finisher medals. You won’t need a finisher medal to remember you have done Riley’s. \n  \nVOLUNTEER: \nMCRRC is a volunteer organization and our events are fully staffed by the hard work of our volunteers.  Without them\, our races wouldn’t be possible. Volunteers are needed for this event. Please sign up here to volunteer! \n  \nA NOTE ON WEATHER: \nTypically\, Riley’s Rumble weather is hot\, humid\, and sunny. Adjust your pace and expectations.  If it is raining\, be prepared to get wet.  In the event of dangerous conditions (lightning\, excessive heat\, blizzard\, etc.) the race may be delayed\, canceled\, or turned in to a fun run (i.e. times and order of finish will not be recorded) at the discretion of the race directors. \n\n  \nREFUNDS: \nThere are no refunds for this event.
URL:https://mcrrc.org/calendar-event/rileys-rumble-half-marathon-2026/
LOCATION:South Germantown Recreational Park – Maryland SoccerPlex\, 18031 Central Park Circle\, Boyds\, MD\, 20841\, United States
CATEGORIES:CS Championship Series,Race,Summer
ORGANIZER;CN="Daniel Goldberg":MAILTO:rileys_rumble@mcrrc.org
GEO:39.1526435;-77.3114173
X-APPLE-STRUCTURED-LOCATION;VALUE=URI;X-ADDRESS=South Germantown Recreational Park – Maryland SoccerPlex 18031 Central Park Circle Boyds MD 20841 United States;X-APPLE-RADIUS=500;X-TITLE=18031 Central Park Circle:geo:-77.3114173,39.1526435
END:VEVENT
BEGIN:VEVENT
DTSTART;TZID=America/New_York:20260731T184500
DTEND;TZID=America/New_York:20260731T213000
DTSTAMP:20260423T060919
CREATED:20251109T003359Z
LAST-MODIFIED:20260408T171903Z
UID:10012989-1785523500-1785533400@mcrrc.org
SUMMARY:Going Green Track Meet 2026
DESCRIPTION:RACE OVERVIEW: \nJoin us for a good ol’ track meet\, including a youth run\, one- and two-mile distances\, and a 4×400 relay! \nThe anticipated meet schedule is: \n\n6:40 – Youth Run Start – 400m (YS)\n6:45 – Youth Run Start – 800m (YS)\n7:00 Two Mile – First Heat 12:00 and faster\n7:15 Two Mile – Second Heat 12:00-14:00\n7:35 Two Mile – Third Heat 14:00-17:00\n7:55 Two Mile – Fourth Heat 17:00 Plus\n8:30 Mile Run – First Heat 5:30 and faster   \n8:40 Mile Run – Second Heat 5:30-6:30\n8:50 Mile Run – Third Heat 6:30 Plus\n9:05 4×400 Relay – Teams of four runners. Please use the sign-up sheets located near the registration table!\n\n\n  \nREGISTRATION: \n\nMCRRC Members – \n\nThis race is part of our low-key race series and is FREE for MCRRC members. Race registration is not required for members; however\, members must first signup for a 2026 bib & chip. Your bib & chip will be waiting for you at any 2026 low-key race. If you have a 2025 (or older) chip\, please bring it with you to exchange for your 2026 bib & chip.  If you are a new member\, or no longer have an older chip\, please remember to bring a $5 chip deposit with you. If you already signed up for a personalized 2026 bib\, please do not sign up again – your personalized 2026 low-key bib & chip will be waiting for you at any 2026 low-key race. \n\nNon-MCRRC Members – \nRegistration is open to non-MCRRC members at a cost of $22 (participants ages 18 & over) and $11.60 (participants under 18). This price includes the registration + processing fee. You may pay less in processing fees per participant if you add more registrations to your cart. Online registration will remain open through the start of the race\, so you can register online before leaving the house or from your smartphone at the race site. Registering online before arriving to the race site is strongly encouraged.  Non-members can register here. Bib and chip pickup will take place on race morning near the start area. Volunteers will be available to assist you. \n\n\n  \nYOUTH RUNS: \nThere will be no timing chips used for the youth series runs. The 400m (1 lap) young run will begin at 6:40 PM and the 800m (2 laps) young run will follow at 6:45. The runs are free\, but all participants must be registered by a parent or guardian prior to race day (members and non-members). Youth Run registration can be found here. \n  \nVOLUNTEER: \nMCRRC is a volunteer organization and our events are fully staffed by the hard work of our volunteers. Without them\, our races wouldn’t be possible. Volunteers are needed for this event. Please sign up here to volunteer! \n\n\n  \nREFUNDS: \nIf you are a non-MCRRC member\, and can no longer attend the race\, please contact office@mcrrc.org so that we can move your registration to another MCRRC low-key event and open up a spot for someone else. Monetary refunds will not be provided.
URL:https://mcrrc.org/calendar-event/going-green-track-meet-2026/
LOCATION:Gaithersburg High School\, 101 Education Blvd\, Gaithersburg\, MD\, 20877\, United States
CATEGORIES:CS Championship Series,Low-Key Race,Race,Summer,Youth Running Series
ORGANIZER;CN="Jim Whitnah":MAILTO:going_green@mcrrc.org
GEO:39.1352017;-77.1930576
X-APPLE-STRUCTURED-LOCATION;VALUE=URI;X-ADDRESS=Gaithersburg High School 101 Education Blvd Gaithersburg MD 20877 United States;X-APPLE-RADIUS=500;X-TITLE=101 Education Blvd:geo:-77.1930576,39.1352017
END:VEVENT
END:VCALENDAR